Package: trackViewer Version: 1.42.0 Command: /home/biocbuild/R/R/bin/R CMD INSTALL trackViewer StartedAt: 2025-01-30 20:45:09 -0000 (Thu, 30 Jan 2025) EndedAt: 2025-01-30 20:46:20 -0000 (Thu, 30 Jan 2025) EllapsedTime: 70.9 seconds RetCode: 0 Status: OK