Package: tradeSeq Version: 1.20.0 Command: /Library/Frameworks/R.framework/Resources/bin/R CMD INSTALL tradeSeq StartedAt: 2025-02-03 15:43:30 -0500 (Mon, 03 Feb 2025) EndedAt: 2025-02-03 15:43:48 -0500 (Mon, 03 Feb 2025) EllapsedTime: 17.5 seconds RetCode: 0 Status: OK