Package: tradeSeq Version: 1.20.0 Command: /home/biocbuild/bbs-3.20-bioc/R/bin/R CMD build --keep-empty-dirs --no-resave-data --md5 tradeSeq StartedAt: 2025-02-03 19:40:35 -0500 (Mon, 03 Feb 2025) EndedAt: 2025-02-03 19:47:18 -0500 (Mon, 03 Feb 2025) EllapsedTime: 402.5 seconds RetCode: 0 Status: OK PackageFile: tradeSeq_1.20.0.tar.gz PackageFileSize: 5.167 MiB