Package: tradeSeq Version: 1.20.0 Command: /home/biocbuild/bbs-3.20-bioc/R/bin/R CMD INSTALL tradeSeq StartedAt: 2025-02-10 15:23:41 -0500 (Mon, 10 Feb 2025) EndedAt: 2025-02-10 15:24:10 -0500 (Mon, 10 Feb 2025) EllapsedTime: 29.9 seconds RetCode: 0 Status: OK