Package: tradeSeq Version: 1.20.0 Command: chmod a+r tradeSeq -R && F:\biocbuild\bbs-3.20-bioc\R\bin\R.exe CMD build --keep-empty-dirs --no-resave-data tradeSeq StartedAt: 2025-02-03 22:39:19 -0500 (Mon, 03 Feb 2025) EndedAt: 2025-02-03 22:49:00 -0500 (Mon, 03 Feb 2025) EllapsedTime: 580.8 seconds RetCode: 0 Status: OK PackageFile: tradeSeq_1.20.0.tar.gz PackageFileSize: 2.889 MiB