Package: tradeSeq Version: 1.20.0 Command: /home/biocbuild/R/R/bin/R CMD build --keep-empty-dirs --no-resave-data tradeSeq StartedAt: 2025-02-04 03:36:45 -0000 (Tue, 04 Feb 2025) EndedAt: 2025-02-04 03:47:16 -0000 (Tue, 04 Feb 2025) EllapsedTime: 630.9 seconds RetCode: 0 Status: OK PackageFile: tradeSeq_1.20.0.tar.gz PackageFileSize: 3.481 MiB