Package: tradeSeq Version: 1.20.0 Command: /home/biocbuild/R/R/bin/R CMD INSTALL tradeSeq StartedAt: 2025-02-03 20:35:48 -0000 (Mon, 03 Feb 2025) EndedAt: 2025-02-03 20:36:26 -0000 (Mon, 03 Feb 2025) EllapsedTime: 38.2 seconds RetCode: 0 Status: OK