Package: transcriptR Version: 1.34.0 Command: rm -rf transcriptR.buildbin-libdir && mkdir transcriptR.buildbin-libdir && /Users/biocbuild/BBS/utils/build-universal.sh transcriptR_1.34.0.tar.gz /Library/Frameworks/R.framework/Resources/bin/R transcriptR.buildbin-libdir StartedAt: 2025-02-01 17:14:08 -0500 (Sat, 01 Feb 2025) EndedAt: 2025-02-01 17:15:07 -0500 (Sat, 01 Feb 2025) EllapsedTime: 59.0 seconds RetCode: 0 Status: OK PackageFile: transcriptR_1.34.0.tgz PackageFileSize: 3.191 MiB