Package: transcriptR Version: 1.34.0 Command: /Library/Frameworks/R.framework/Resources/bin/R CMD build --keep-empty-dirs --no-resave-data transcriptR StartedAt: 2025-02-04 09:54:54 -0500 (Tue, 04 Feb 2025) EndedAt: 2025-02-04 09:56:38 -0500 (Tue, 04 Feb 2025) EllapsedTime: 103.7 seconds RetCode: 0 Status: OK PackageFile: transcriptR_1.34.0.tar.gz PackageFileSize: 3.573 MiB