Package: transcriptR Version: 1.34.0 Command: /home/biocbuild/bbs-3.20-bioc/R/bin/R CMD build --keep-empty-dirs --no-resave-data --md5 transcriptR StartedAt: 2025-02-03 19:40:49 -0500 (Mon, 03 Feb 2025) EndedAt: 2025-02-03 19:42:07 -0500 (Mon, 03 Feb 2025) EllapsedTime: 77.1 seconds RetCode: 0 Status: OK PackageFile: transcriptR_1.34.0.tar.gz PackageFileSize: 3.566 MiB