Package: transcriptR Version: 1.34.0 Command: /home/biocbuild/bbs-3.20-bioc/R/bin/R CMD check --install=check:transcriptR.install-out.txt --library=/home/biocbuild/bbs-3.20-bioc/R/site-library --timings transcriptR_1.34.0.tar.gz StartedAt: 2025-02-04 03:17:42 -0500 (Tue, 04 Feb 2025) EndedAt: 2025-02-04 03:24:49 -0500 (Tue, 04 Feb 2025) EllapsedTime: 426.5 seconds RetCode: 0 Status: OK CheckDir: transcriptR.Rcheck Warnings: 0