Package: transcriptR Version: 1.34.0 Command: /home/biocbuild/bbs-3.20-bioc/R/bin/R CMD INSTALL transcriptR StartedAt: 2025-02-03 15:57:26 -0500 (Mon, 03 Feb 2025) EndedAt: 2025-02-03 15:58:19 -0500 (Mon, 03 Feb 2025) EllapsedTime: 53.6 seconds RetCode: 0 Status: OK