Package: transcriptR Version: 1.34.0 Command: /home/biocbuild/R/R/bin/R CMD build --keep-empty-dirs --no-resave-data transcriptR StartedAt: 2025-02-04 03:36:58 -0000 (Tue, 04 Feb 2025) EndedAt: 2025-02-04 03:39:13 -0000 (Tue, 04 Feb 2025) EllapsedTime: 134.2 seconds RetCode: 0 Status: OK PackageFile: transcriptR_1.34.0.tar.gz PackageFileSize: 3.406 MiB