Package: transcriptR Version: 1.34.0 Command: /home/biocbuild/R/R/bin/R CMD check --install=check:transcriptR.install-out.txt --library=/home/biocbuild/R/R/site-library --no-vignettes --timings transcriptR_1.34.0.tar.gz StartedAt: 2025-02-04 11:50:35 -0000 (Tue, 04 Feb 2025) EndedAt: 2025-02-04 11:58:40 -0000 (Tue, 04 Feb 2025) EllapsedTime: 484.7 seconds RetCode: 0 Status: OK CheckDir: transcriptR.Rcheck Warnings: 0