Package: transformGamPoi Version: 1.12.0 Command: /Library/Frameworks/R.framework/Resources/bin/R CMD build --keep-empty-dirs --no-resave-data transformGamPoi StartedAt: 2025-02-03 22:59:29 -0500 (Mon, 03 Feb 2025) EndedAt: 2025-02-03 23:00:55 -0500 (Mon, 03 Feb 2025) EllapsedTime: 85.5 seconds RetCode: 0 Status: OK PackageFile: transformGamPoi_1.12.0.tar.gz PackageFileSize: 640.3 KiB