Package: transformGamPoi Version: 1.12.0 Command: /Library/Frameworks/R.framework/Resources/bin/R CMD check --install=check:transformGamPoi.install-out.txt --library=/Library/Frameworks/R.framework/Resources/library --no-vignettes --timings transformGamPoi_1.12.0.tar.gz StartedAt: 2025-02-04 11:26:55 -0500 (Tue, 04 Feb 2025) EndedAt: 2025-02-04 11:30:46 -0500 (Tue, 04 Feb 2025) EllapsedTime: 231.1 seconds RetCode: 0 Status: OK CheckDir: transformGamPoi.Rcheck Warnings: 0