Package: transformGamPoi Version: 1.12.0 Command: /home/biocbuild/R/R/bin/R CMD build --keep-empty-dirs --no-resave-data transformGamPoi StartedAt: 2025-02-04 03:37:22 -0000 (Tue, 04 Feb 2025) EndedAt: 2025-02-04 03:38:37 -0000 (Tue, 04 Feb 2025) EllapsedTime: 74.1 seconds RetCode: 0 Status: OK PackageFile: transformGamPoi_1.12.0.tar.gz PackageFileSize: 541.7 KiB