Package: transite Version: 1.24.0 Command: /Library/Frameworks/R.framework/Resources/bin/R CMD build --keep-empty-dirs --no-resave-data transite StartedAt: 2025-02-11 09:50:20 -0500 (Tue, 11 Feb 2025) EndedAt: 2025-02-11 09:51:01 -0500 (Tue, 11 Feb 2025) EllapsedTime: 41.0 seconds RetCode: 0 Status: OK PackageFile: transite_1.24.0.tar.gz PackageFileSize: 637.7 KiB