Package: transmogR Version: 1.2.0 Command: rm -rf transmogR.buildbin-libdir && mkdir transmogR.buildbin-libdir && /Users/biocbuild/BBS/utils/build-universal.sh transmogR_1.2.0.tar.gz /Library/Frameworks/R.framework/Resources/bin/R transmogR.buildbin-libdir StartedAt: 2025-02-05 18:09:57 -0500 (Wed, 05 Feb 2025) EndedAt: 2025-02-05 18:10:47 -0500 (Wed, 05 Feb 2025) EllapsedTime: 49.8 seconds RetCode: 0 Status: OK PackageFile: transmogR_1.2.0.tgz PackageFileSize: 637.3 KiB