Package: transmogR Version: 1.2.0 Command: /Library/Frameworks/R.framework/Resources/bin/R CMD build --keep-empty-dirs --no-resave-data transmogR StartedAt: 2025-02-04 09:58:23 -0500 (Tue, 04 Feb 2025) EndedAt: 2025-02-04 09:59:58 -0500 (Tue, 04 Feb 2025) EllapsedTime: 95.6 seconds RetCode: 0 Status: OK PackageFile: transmogR_1.2.0.tar.gz PackageFileSize: 577.3 KiB