Package: transmogR Version: 1.2.0 Command: /Library/Frameworks/R.framework/Resources/bin/R CMD check --install=check:transmogR.install-out.txt --library=/Library/Frameworks/R.framework/Resources/library --no-vignettes --timings transmogR_1.2.0.tar.gz StartedAt: 2025-02-05 13:18:23 -0500 (Wed, 05 Feb 2025) EndedAt: 2025-02-05 13:24:36 -0500 (Wed, 05 Feb 2025) EllapsedTime: 372.8 seconds RetCode: 0 Status: OK CheckDir: transmogR.Rcheck Warnings: 0