Package: transmogR Version: 1.2.0 Command: /Library/Frameworks/R.framework/Resources/bin/R CMD build --keep-empty-dirs --no-resave-data transmogR StartedAt: 2025-02-03 22:59:44 -0500 (Mon, 03 Feb 2025) EndedAt: 2025-02-03 23:02:20 -0500 (Mon, 03 Feb 2025) EllapsedTime: 156.0 seconds RetCode: 0 Status: OK PackageFile: transmogR_1.2.0.tar.gz PackageFileSize: 577.1 KiB