Package: transmogR Version: 1.2.0 Command: /home/biocbuild/bbs-3.20-bioc/R/bin/R CMD check --install=check:transmogR.install-out.txt --library=/home/biocbuild/bbs-3.20-bioc/R/site-library --timings transmogR_1.2.0.tar.gz StartedAt: 2025-02-04 03:19:17 -0500 (Tue, 04 Feb 2025) EndedAt: 2025-02-04 03:25:17 -0500 (Tue, 04 Feb 2025) EllapsedTime: 359.4 seconds RetCode: 0 Status: OK CheckDir: transmogR.Rcheck Warnings: 0