Package: transmogR Version: 1.2.0 Command: /home/biocbuild/R/R/bin/R CMD check --install=check:transmogR.install-out.txt --library=/home/biocbuild/R/R/site-library --no-vignettes --timings transmogR_1.2.0.tar.gz StartedAt: 2025-02-04 11:51:46 -0000 (Tue, 04 Feb 2025) EndedAt: 2025-02-04 11:58:13 -0000 (Tue, 04 Feb 2025) EllapsedTime: 387.6 seconds RetCode: 0 Status: OK CheckDir: transmogR.Rcheck Warnings: 0