Package: transmogR Version: 1.2.0 Command: /home/biocbuild/R/R/bin/R CMD INSTALL transmogR StartedAt: 2025-02-03 20:43:13 -0000 (Mon, 03 Feb 2025) EndedAt: 2025-02-03 20:44:00 -0000 (Mon, 03 Feb 2025) EllapsedTime: 47.3 seconds RetCode: 0 Status: OK