Package: transomics2cytoscape Version: 1.16.0 Command: /Library/Frameworks/R.framework/Resources/bin/R CMD build --keep-empty-dirs --no-resave-data transomics2cytoscape StartedAt: 2025-02-04 09:59:58 -0500 (Tue, 04 Feb 2025) EndedAt: 2025-02-04 10:00:13 -0500 (Tue, 04 Feb 2025) EllapsedTime: 14.6 seconds RetCode: 0 Status: OK PackageFile: transomics2cytoscape_1.16.0.tar.gz PackageFileSize: 11.82 MiB