Package: transomics2cytoscape Version: 1.16.0 Command: /Library/Frameworks/R.framework/Resources/bin/R CMD INSTALL transomics2cytoscape StartedAt: 2025-02-03 17:02:40 -0500 (Mon, 03 Feb 2025) EndedAt: 2025-02-03 17:02:44 -0500 (Mon, 03 Feb 2025) EllapsedTime: 4.0 seconds RetCode: 0 Status: OK