Package: transomics2cytoscape Version: 1.16.0 Command: /Library/Frameworks/R.framework/Resources/bin/R CMD build --keep-empty-dirs --no-resave-data transomics2cytoscape StartedAt: 2025-02-03 22:59:54 -0500 (Mon, 03 Feb 2025) EndedAt: 2025-02-03 23:00:15 -0500 (Mon, 03 Feb 2025) EllapsedTime: 21.2 seconds RetCode: 0 Status: OK PackageFile: transomics2cytoscape_1.16.0.tar.gz PackageFileSize: 11.82 MiB