Package: transomics2cytoscape Version: 1.16.0 Command: /Library/Frameworks/R.framework/Resources/bin/R CMD INSTALL transomics2cytoscape StartedAt: 2025-02-10 16:06:44 -0500 (Mon, 10 Feb 2025) EndedAt: 2025-02-10 16:06:54 -0500 (Mon, 10 Feb 2025) EllapsedTime: 9.8 seconds RetCode: 0 Status: OK