Package: traseR Version: 1.36.0 Command: rm -rf traseR.buildbin-libdir && mkdir traseR.buildbin-libdir && /Users/biocbuild/BBS/utils/build-universal.sh traseR_1.36.0.tar.gz /Library/Frameworks/R.framework/Resources/bin/R traseR.buildbin-libdir StartedAt: 2025-02-01 17:14:51 -0500 (Sat, 01 Feb 2025) EndedAt: 2025-02-01 17:15:32 -0500 (Sat, 01 Feb 2025) EllapsedTime: 40.8 seconds RetCode: 0 Status: OK PackageFile: traseR_1.36.0.tgz PackageFileSize: 6.29 MiB