Package: traseR Version: 1.36.0 Command: /Library/Frameworks/R.framework/Resources/bin/R CMD check --install=check:traseR.install-out.txt --library=/Library/Frameworks/R.framework/Resources/library --no-vignettes --timings traseR_1.36.0.tar.gz StartedAt: 2025-02-04 11:29:10 -0500 (Tue, 04 Feb 2025) EndedAt: 2025-02-04 11:38:08 -0500 (Tue, 04 Feb 2025) EllapsedTime: 538.5 seconds RetCode: 0 Status: OK CheckDir: traseR.Rcheck Warnings: 0