Package: traseR Version: 1.36.0 Command: rm -rf traseR.buildbin-libdir && mkdir traseR.buildbin-libdir && F:\biocbuild\bbs-3.20-bioc\R\bin\R.exe CMD INSTALL --build --library=traseR.buildbin-libdir traseR_1.36.0.tar.gz StartedAt: 2025-01-31 09:48:49 -0500 (Fri, 31 Jan 2025) EndedAt: 2025-01-31 09:49:30 -0500 (Fri, 31 Jan 2025) EllapsedTime: 41.4 seconds RetCode: 0 Status: OK PackageFile: traseR_1.36.0.zip PackageFileSize: 6.294 MiB