Package: traseR Version: 1.36.0 Command: chmod a+r traseR -R && F:\biocbuild\bbs-3.20-bioc\R\bin\R.exe CMD build --keep-empty-dirs --no-resave-data traseR StartedAt: 2025-01-30 22:23:18 -0500 (Thu, 30 Jan 2025) EndedAt: 2025-01-30 22:24:23 -0500 (Thu, 30 Jan 2025) EllapsedTime: 65.4 seconds RetCode: 0 Status: OK PackageFile: traseR_1.36.0.tar.gz PackageFileSize: 6.222 MiB