Package: traseR Version: 1.36.0 Command: /home/biocbuild/R/R/bin/R CMD build --keep-empty-dirs --no-resave-data traseR StartedAt: 2025-02-04 03:38:37 -0000 (Tue, 04 Feb 2025) EndedAt: 2025-02-04 03:39:54 -0000 (Tue, 04 Feb 2025) EllapsedTime: 77.1 seconds RetCode: 0 Status: OK PackageFile: traseR_1.36.0.tar.gz PackageFileSize: 6.211 MiB