Package: traseR Version: 1.36.0 Command: /home/biocbuild/R/R/bin/R CMD check --install=check:traseR.install-out.txt --library=/home/biocbuild/R/R/site-library --no-vignettes --timings traseR_1.36.0.tar.gz StartedAt: 2025-01-31 11:12:57 -0000 (Fri, 31 Jan 2025) EndedAt: 2025-01-31 11:17:58 -0000 (Fri, 31 Jan 2025) EllapsedTime: 300.4 seconds RetCode: 0 Status: OK CheckDir: traseR.Rcheck Warnings: 0