Package: traviz Version: 1.12.0 Command: /Library/Frameworks/R.framework/Resources/bin/R CMD check --install=check:traviz.install-out.txt --library=/Library/Frameworks/R.framework/Resources/library --no-vignettes --timings traviz_1.12.0.tar.gz StartedAt: 2025-02-01 12:28:21 -0500 (Sat, 01 Feb 2025) EndedAt: 2025-02-01 12:32:13 -0500 (Sat, 01 Feb 2025) EllapsedTime: 232.3 seconds RetCode: 0 Status: OK CheckDir: traviz.Rcheck Warnings: 0