Package: traviz Version: 1.12.0 Command: /Library/Frameworks/R.framework/Resources/bin/R CMD build --keep-empty-dirs --no-resave-data traviz StartedAt: 2025-02-03 23:00:29 -0500 (Mon, 03 Feb 2025) EndedAt: 2025-02-03 23:02:16 -0500 (Mon, 03 Feb 2025) EllapsedTime: 106.5 seconds RetCode: 0 Status: OK PackageFile: traviz_1.12.0.tar.gz PackageFileSize: 3.634 MiB