Package: treeio Version: 1.30.0 Command: /Library/Frameworks/R.framework/Resources/bin/R CMD build --keep-empty-dirs --no-resave-data treeio StartedAt: 2025-02-04 10:01:50 -0500 (Tue, 04 Feb 2025) EndedAt: 2025-02-04 10:02:02 -0500 (Tue, 04 Feb 2025) EllapsedTime: 12.7 seconds RetCode: 0 Status: OK PackageFile: treeio_1.30.0.tar.gz PackageFileSize: 678.8 KiB