Package: treeio Version: 1.30.0 Command: /Library/Frameworks/R.framework/Resources/bin/R CMD check --install=check:treeio.install-out.txt --library=/Library/Frameworks/R.framework/Resources/library --no-vignettes --timings treeio_1.30.0.tar.gz StartedAt: 2025-02-12 12:39:57 -0500 (Wed, 12 Feb 2025) EndedAt: 2025-02-12 12:41:02 -0500 (Wed, 12 Feb 2025) EllapsedTime: 65.6 seconds RetCode: 0 Status: OK CheckDir: treeio.Rcheck Warnings: 0