Package: treeio Version: 1.30.0 Command: /home/biocbuild/R/R/bin/R CMD build --keep-empty-dirs --no-resave-data treeio StartedAt: 2025-02-04 03:39:00 -0000 (Tue, 04 Feb 2025) EndedAt: 2025-02-04 03:39:16 -0000 (Tue, 04 Feb 2025) EllapsedTime: 16.0 seconds RetCode: 0 Status: OK PackageFile: treeio_1.30.0.tar.gz PackageFileSize: 679.6 KiB