Package: treeio Version: 1.30.0 Command: /home/biocbuild/R/R/bin/R CMD INSTALL treeio StartedAt: 2025-02-03 20:47:12 -0000 (Mon, 03 Feb 2025) EndedAt: 2025-02-03 20:47:21 -0000 (Mon, 03 Feb 2025) EllapsedTime: 8.9 seconds RetCode: 0 Status: OK