Package: tricycle Version: 1.14.0 Command: /Library/Frameworks/R.framework/Resources/bin/R CMD build --keep-empty-dirs --no-resave-data tricycle StartedAt: 2025-02-04 10:03:47 -0500 (Tue, 04 Feb 2025) EndedAt: 2025-02-04 10:05:07 -0500 (Tue, 04 Feb 2025) EllapsedTime: 79.8 seconds RetCode: 0 Status: OK PackageFile: tricycle_1.14.0.tar.gz PackageFileSize: 4.1 MiB