Package: tricycle Version: 1.14.0 Command: /Library/Frameworks/R.framework/Resources/bin/R CMD INSTALL tricycle StartedAt: 2025-02-03 17:51:10 -0500 (Mon, 03 Feb 2025) EndedAt: 2025-02-03 17:51:48 -0500 (Mon, 03 Feb 2025) EllapsedTime: 38.0 seconds RetCode: 0 Status: OK