Package: tricycle Version: 1.14.0 Command: /Library/Frameworks/R.framework/Resources/bin/R CMD build --keep-empty-dirs --no-resave-data tricycle StartedAt: 2024-11-19 19:00:57 -0500 (Tue, 19 Nov 2024) EndedAt: 2024-11-19 19:02:08 -0500 (Tue, 19 Nov 2024) EllapsedTime: 70.9 seconds RetCode: 0 Status: OK PackageFile: tricycle_1.14.0.tar.gz PackageFileSize: 4.099 MiB