Package: tricycle Version: 1.14.0 Command: /Library/Frameworks/R.framework/Resources/bin/R CMD build --keep-empty-dirs --no-resave-data tricycle StartedAt: 2025-02-03 23:01:27 -0500 (Mon, 03 Feb 2025) EndedAt: 2025-02-03 23:03:42 -0500 (Mon, 03 Feb 2025) EllapsedTime: 135.3 seconds RetCode: 0 Status: OK PackageFile: tricycle_1.14.0.tar.gz PackageFileSize: 4.099 MiB