Package: tricycle Version: 1.14.0 Command: chmod a+r tricycle -R && F:\biocbuild\bbs-3.20-bioc\R\bin\R.exe CMD build --keep-empty-dirs --no-resave-data tricycle StartedAt: 2025-02-03 22:41:24 -0500 (Mon, 03 Feb 2025) EndedAt: 2025-02-03 22:42:49 -0500 (Mon, 03 Feb 2025) EllapsedTime: 85.0 seconds RetCode: 0 Status: OK PackageFile: tricycle_1.14.0.tar.gz PackageFileSize: 3.646 MiB