Package: tricycle Version: 1.14.0 Command: F:\biocbuild\bbs-3.20-bioc\R\bin\R.exe CMD INSTALL tricycle StartedAt: 2025-01-30 16:47:42 -0500 (Thu, 30 Jan 2025) EndedAt: 2025-01-30 16:48:19 -0500 (Thu, 30 Jan 2025) EllapsedTime: 37.3 seconds RetCode: 0 Status: OK