Package: trigger Version: 1.52.0 Command: /Library/Frameworks/R.framework/Resources/bin/R CMD INSTALL trigger StartedAt: 2025-02-03 16:27:01 -0500 (Mon, 03 Feb 2025) EndedAt: 2025-02-03 16:27:57 -0500 (Mon, 03 Feb 2025) EllapsedTime: 56.0 seconds RetCode: 0 Status: OK