Package: trigger Version: 1.52.0 Command: /home/biocbuild/bbs-3.20-bioc/R/bin/R CMD check --install=check:trigger.install-out.txt --library=/home/biocbuild/bbs-3.20-bioc/R/site-library --timings trigger_1.52.0.tar.gz StartedAt: 2025-01-31 03:11:23 -0500 (Fri, 31 Jan 2025) EndedAt: 2025-01-31 03:15:39 -0500 (Fri, 31 Jan 2025) EllapsedTime: 256.3 seconds RetCode: 0 Status: OK CheckDir: trigger.Rcheck Warnings: 0