Package: trigger Version: 1.52.0 Command: F:\biocbuild\bbs-3.20-bioc\R\bin\R.exe CMD INSTALL trigger StartedAt: 2025-02-03 16:12:20 -0500 (Mon, 03 Feb 2025) EndedAt: 2025-02-03 16:13:11 -0500 (Mon, 03 Feb 2025) EllapsedTime: 51.6 seconds RetCode: 0 Status: OK